BEGIN:VCALENDAR
VERSION:2.0
PRODID:-//Tukios.com/
BEGIN:VEVENT
UID:a7ce19cb-6d20-458f-8a71-77344122177f@www.vaughantemplefh.com
DTSTAMP:20260426T021807Z
DTSTART:20260430T160000Z
DTEND:20260430T170000Z
SUMMARY:Funeral Service
DESCRIPTION:
URL:https://www.vaughantemplefh.com/obituaries/mr-donald-howell
LOCATION: 1717 South St  Franklin VA 23851
GEO:36.666505;-76.9340519
END:VEVENT
END:VCALENDAR