BEGIN:VCALENDAR
VERSION:2.0
PRODID:-//Tukios.com/
BEGIN:VEVENT
UID:7a4fed94-78dd-4990-bcad-316341a86422@www.vaughantemplefh.com
DTSTAMP:20260426T021855Z
DTSTART:20260429T190000Z
DTEND:20260429T220000Z
SUMMARY:Viewing
DESCRIPTION:
URL:https://www.vaughantemplefh.com/obituaries/mr-donald-howell
LOCATION: 1717 South St  Franklin VA 23851
GEO:36.666505;-76.9340519
END:VEVENT
END:VCALENDAR